BEGIN:VCALENDAR
VERSION:2.0
PRODID:-//Manawatu Jazz Club - ECPv4.9.10//NONSGML v1.0//EN
CALSCALE:GREGORIAN
METHOD:PUBLISH
X-WR-CALNAME:Manawatu Jazz Club
X-ORIGINAL-URL:http://www.mjc.org.nz
X-WR-CALDESC:Events for Manawatu Jazz Club
BEGIN:VTIMEZONE
TZID:Pacific/Auckland
BEGIN:STANDARD
TZOFFSETFROM:+1300
TZOFFSETTO:+1200
TZNAME:NZST
DTSTART:20190406T140000
END:STANDARD
BEGIN:DAYLIGHT
TZOFFSETFROM:+1200
TZOFFSETTO:+1300
TZNAME:NZDT
DTSTART:20190928T140000
END:DAYLIGHT
END:VTIMEZONE
BEGIN:VEVENT
DTSTART;TZID=Pacific/Auckland:20191208T143000
DTEND;TZID=Pacific/Auckland:20191208T163000
DTSTAMP:20191221T004322
CREATED:20191112T190005Z
LAST-MODIFIED:20191112T190005Z
UID:1868-1575815400-1575822600@www.mjc.org.nz
SUMMARY:(Andrew) London calling Rodger Fox
DESCRIPTION:ANDREW LONDON with THE RODGER FOX BIG BAND featuring ERNA FERRY \na show featuring singer/songwriter Andrew London who will deliver material wrapped in an easy-going and accessible Hot Club Swing package with occasional sallies into folk\, blues and jazz\, alongside the big band sound of Rodger Fox and vocalist Erna Ferry. \nSpecial big band arrangements have been organised of some of Andrew’s satirical songs and a few surprises along the way. \nLondon Calling Rodger Fox – one hell’va show. \n
URL:http://www.mjc.org.nz/index.php/event/andrew-london-calling-rodger-fox/
LOCATION:Globe Theatre\, Main Street\, Palmerston North
END:VEVENT
END:VCALENDAR