BEGIN:VCALENDAR
VERSION:2.0
PRODID:-//Manawatu Jazz Club - ECPv4.9.10//NONSGML v1.0//EN
CALSCALE:GREGORIAN
METHOD:PUBLISH
X-WR-CALNAME:Manawatu Jazz Club
X-ORIGINAL-URL:http://www.mjc.org.nz
X-WR-CALDESC:Events for Manawatu Jazz Club
BEGIN:VTIMEZONE
TZID:Pacific/Auckland
BEGIN:STANDARD
TZOFFSETFROM:+1300
TZOFFSETTO:+1200
TZNAME:NZST
DTSTART:20190406T140000
END:STANDARD
BEGIN:DAYLIGHT
TZOFFSETFROM:+1200
TZOFFSETTO:+1300
TZNAME:NZDT
DTSTART:20190928T140000
END:DAYLIGHT
END:VTIMEZONE
BEGIN:VEVENT
DTSTART;TZID=Pacific/Auckland:20191005T200000
DTEND;TZID=Pacific/Auckland:20191005T223000
DTSTAMP:20191221T004720
CREATED:20190919T204006Z
LAST-MODIFIED:20190919T204006Z
UID:1844-1570305600-1570314600@www.mjc.org.nz
SUMMARY:Andrew London Trio
DESCRIPTION:We’ll assemble at the Hokowhitu Bowling Club on Saturday 5th October whereupon James Tait-Jamieson will proceed to do justice to various saxophones\, Irish whistles\, melodicas\, flutes and items of cutlery. \n\nWe’ll mix in some of our Retro Pack ‘crooning’ repertoire with the usual cynical observations on modern life – and debut a brand new song about toast on beans. I mean beans on toast.  Call or email Steve at 0273682367.\n
URL:http://www.mjc.org.nz/index.php/event/andrew-london-trio/
LOCATION:Hokowhitu Bowling Club\, 279 Albert Street\, Hokowhitu\, Palmerston North\, 4410\, New Zealand
END:VEVENT
END:VCALENDAR