BEGIN:VCALENDAR
VERSION:2.0
PRODID:-//Manawatu Jazz Club - ECPv4.5.10//NONSGML v1.0//EN
CALSCALE:GREGORIAN
METHOD:PUBLISH
X-WR-CALNAME:Manawatu Jazz Club
X-ORIGINAL-URL:http://www.mjc.org.nz
X-WR-CALDESC:Events for Manawatu Jazz Club
BEGIN:VEVENT
DTSTART;TZID=Pacific/Auckland:20171026T190000
DTEND;TZID=Pacific/Auckland:20171026T220000
DTSTAMP:20180122T144414
CREATED:20170402T024932Z
LAST-MODIFIED:20171024T003707Z
UID:1153-1509044400-1509055200@www.mjc.org.nz
SUMMARY:Ben & the Believers
DESCRIPTION: \n
URL:http://www.mjc.org.nz/index.php/event/ben-the-believers-2/
LOCATION:Regent Arcade\, Palmerston North\, New Zealand
CATEGORIES:Thursday night jazz and blues
END:VEVENT
END:VCALENDAR