BEGIN:VCALENDAR
VERSION:2.0
PRODID:-//Manawatu Jazz Club - ECPv4.9.10//NONSGML v1.0//EN
CALSCALE:GREGORIAN
METHOD:PUBLISH
X-WR-CALNAME:Manawatu Jazz Club
X-ORIGINAL-URL:http://www.mjc.org.nz
X-WR-CALDESC:Events for Manawatu Jazz Club
BEGIN:VTIMEZONE
TZID:Pacific/Auckland
BEGIN:STANDARD
TZOFFSETFROM:+1300
TZOFFSETTO:+1200
TZNAME:NZST
DTSTART:20190406T140000
END:STANDARD
BEGIN:DAYLIGHT
TZOFFSETFROM:+1200
TZOFFSETTO:+1300
TZNAME:NZDT
DTSTART:20190928T140000
END:DAYLIGHT
END:VTIMEZONE
BEGIN:VEVENT
DTSTART;TZID=Pacific/Auckland:20190908T170000
DTEND;TZID=Pacific/Auckland:20190908T190000
DTSTAMP:20191221T005405
CREATED:20181209T233935Z
LAST-MODIFIED:20190820T194603Z
UID:1566-1567962000-1567969200@www.mjc.org.nz
SUMMARY:September Club Day Concert: Black 'n Blue
DESCRIPTION:
URL:http://www.mjc.org.nz/index.php/event/club-day-concert-3/
CATEGORIES:Club Day Concert
END:VEVENT
END:VCALENDAR