BEGIN:VCALENDAR
VERSION:2.0
PRODID:-//Manawatu Jazz Club - ECPv4.5.10//NONSGML v1.0//EN
CALSCALE:GREGORIAN
METHOD:PUBLISH
X-WR-CALNAME:Manawatu Jazz Club
X-ORIGINAL-URL:http://www.mjc.org.nz
X-WR-CALDESC:Events for Manawatu Jazz Club
BEGIN:VEVENT
DTSTART;TZID=Pacific/Auckland:20180211T110000
DTEND;TZID=Pacific/Auckland:20180211T163000
DTSTAMP:20180122T144243
CREATED:20170317T063600Z
LAST-MODIFIED:20180118T064424Z
UID:1137-1518346800-1518366600@www.mjc.org.nz
SUMMARY:P.N. Savage Club / M.J.C. Joint Picnic & BBQ
DESCRIPTION:With a Rolling Jam Session. Musos bring your own gear and do your own sound as for a playout. Basic PA and Keyboard provided \nRangiotu school is at corner of Te Awe Awe Road and SH 56 \nEntry by Koha. Bring seats\, shade\, food and drinks (BBQs provided) \nNB: Can move indoors if wet \n
URL:http://www.mjc.org.nz/index.php/event/club-day-concert/
LOCATION:Highway 56\, Rangiotu\, 4477\, New Zealand
CATEGORIES:Club Day Concert
END:VEVENT
END:VCALENDAR