BEGIN:VCALENDAR
VERSION:2.0
PRODID:-//Manawatu Jazz Club - ECPv4.9.10//NONSGML v1.0//EN
CALSCALE:GREGORIAN
METHOD:PUBLISH
X-WR-CALNAME:Manawatu Jazz Club
X-ORIGINAL-URL:http://www.mjc.org.nz
X-WR-CALDESC:Events for Manawatu Jazz Club
BEGIN:VTIMEZONE
TZID:Pacific/Auckland
BEGIN:STANDARD
TZOFFSETFROM:+1300
TZOFFSETTO:+1200
TZNAME:NZST
DTSTART:20190406T140000
END:STANDARD
BEGIN:DAYLIGHT
TZOFFSETFROM:+1200
TZOFFSETTO:+1300
TZNAME:NZDT
DTSTART:20190928T140000
END:DAYLIGHT
END:VTIMEZONE
BEGIN:VEVENT
DTSTART;TZID=Pacific/Auckland:20191208T170000
DTEND;TZID=Pacific/Auckland:20191208T193000
DTSTAMP:20191221T004339
CREATED:20191009T030308Z
LAST-MODIFIED:20191114T013238Z
UID:1848-1575824400-1575833400@www.mjc.org.nz
SUMMARY:December Club Day Concert: "The Four Tunes" and Manawatu Jazz Club Big Swing Band
DESCRIPTION:December Christmas Club Day is a double bill – with Milson Rotary Club’s Roger Sims  Memorial Trust Getting into Jazz Course’s The Four Tunes  performance \nfollowed by MJC Big Swing Band. \nALL WELCOME \nDoor Sales: Adults $20 Members $10 Students $5– High Schools Free \n
URL:http://www.mjc.org.nz/index.php/event/dec-clubday-concert/
LOCATION:Willowpark Tavern\, 820 Tremaine Ave\, Palmerston North\, 4414\, New Zealand
END:VEVENT
END:VCALENDAR