BEGIN:VCALENDAR
VERSION:2.0
PRODID:-//Manawatu Jazz Club - ECPv4.9.10//NONSGML v1.0//EN
CALSCALE:GREGORIAN
METHOD:PUBLISH
X-WR-CALNAME:Manawatu Jazz Club
X-ORIGINAL-URL:http://www.mjc.org.nz
X-WR-CALDESC:Events for Manawatu Jazz Club
BEGIN:VTIMEZONE
TZID:Pacific/Auckland
BEGIN:STANDARD
TZOFFSETFROM:+1300
TZOFFSETTO:+1200
TZNAME:NZST
DTSTART:20190406T140000
END:STANDARD
BEGIN:DAYLIGHT
TZOFFSETFROM:+1200
TZOFFSETTO:+1300
TZNAME:NZDT
DTSTART:20190928T140000
END:DAYLIGHT
END:VTIMEZONE
BEGIN:VEVENT
DTSTART;TZID=Pacific/Auckland:20190531T180000
DTEND;TZID=Pacific/Auckland:20190531T200000
DTSTAMP:20191221T005128
CREATED:20190517T022106Z
LAST-MODIFIED:20190517T022133Z
UID:1726-1559325600-1559332800@www.mjc.org.nz
SUMMARY:Jazz Dance with Chris & Rastem
DESCRIPTION:Chris Dann\, keyboards \nRastem Eugenio\, saxophone. \n
URL:http://www.mjc.org.nz/index.php/event/jazz-dance-with-chris-rastem/
LOCATION:Cafe Royale\, 47 the Square\, Palmerston North\, New Zealand
END:VEVENT
END:VCALENDAR