BEGIN:VCALENDAR
VERSION:2.0
PRODID:-//Manawatu Jazz Club - ECPv4.5.10//NONSGML v1.0//EN
CALSCALE:GREGORIAN
METHOD:PUBLISH
X-WR-CALNAME:Manawatu Jazz Club
X-ORIGINAL-URL:http://www.mjc.org.nz
X-WR-CALDESC:Events for Manawatu Jazz Club
BEGIN:VEVENT
DTSTART;TZID=Pacific/Auckland:20170603T223000
DTEND;TZID=Pacific/Auckland:20170603T223000
DTSTAMP:20180122T144631
CREATED:20170519T204016Z
LAST-MODIFIED:20170519T204016Z
UID:1200-1496529000-1496529000@www.mjc.org.nz
SUMMARY:JAZZ HQ – The Post Gala Concert Hangout
DESCRIPTION:Join all the artists for a lively Jam Session….. or just relax and unwind\nin a great setting. \nFull bar & food available. \n
URL:http://www.mjc.org.nz/index.php/event/jazz-hq-the-post-gala-concert-hangout/
LOCATION:Cnr Fitzherbert Ave & College St\, Palmerston North
END:VEVENT
END:VCALENDAR