BEGIN:VCALENDAR
VERSION:2.0
PRODID:-//Manawatu Jazz Club - ECPv4.9.10//NONSGML v1.0//EN
CALSCALE:GREGORIAN
METHOD:PUBLISH
X-WR-CALNAME:Manawatu Jazz Club
X-ORIGINAL-URL:http://www.mjc.org.nz
X-WR-CALDESC:Events for Manawatu Jazz Club
BEGIN:VTIMEZONE
TZID:Pacific/Auckland
BEGIN:STANDARD
TZOFFSETFROM:+1300
TZOFFSETTO:+1200
TZNAME:NZST
DTSTART:20190406T140000
END:STANDARD
BEGIN:DAYLIGHT
TZOFFSETFROM:+1200
TZOFFSETTO:+1300
TZNAME:NZDT
DTSTART:20190928T140000
END:DAYLIGHT
END:VTIMEZONE
BEGIN:VEVENT
DTSTART;TZID=Pacific/Auckland:20190524T193000
DTEND;TZID=Pacific/Auckland:20190524T213000
DTSTAMP:20191221T005440
CREATED:20180412T051745Z
LAST-MODIFIED:20190430T021846Z
UID:1408-1558726200-1558733400@www.mjc.org.nz
SUMMARY:Jazz on your Feet Swing Dance with MJC Big Swing Band
DESCRIPTION:Savage Club Hall is a great dance venue… with wooden dance floor… and full dance band! \nIt was a great BYO event last year and at $10 door charge\, great value\, so make it a good start to the Festival\, and bring friends (bus parking available!) \n
URL:http://www.mjc.org.nz/index.php/event/jazz-on-your-feet-swing-dance/
LOCATION:Savage Club Hall\, Palmerston North
CATEGORIES:Jazz Festival
END:VEVENT
END:VCALENDAR