BEGIN:VCALENDAR
VERSION:2.0
PRODID:-//Manawatu Jazz Club - ECPv4.9.10//NONSGML v1.0//EN
CALSCALE:GREGORIAN
METHOD:PUBLISH
X-WR-CALNAME:Manawatu Jazz Club
X-ORIGINAL-URL:http://www.mjc.org.nz
X-WR-CALDESC:Events for Manawatu Jazz Club
BEGIN:VTIMEZONE
TZID:Pacific/Auckland
BEGIN:STANDARD
TZOFFSETFROM:+1300
TZOFFSETTO:+1200
TZNAME:NZST
DTSTART:20190406T140000
END:STANDARD
BEGIN:DAYLIGHT
TZOFFSETFROM:+1200
TZOFFSETTO:+1300
TZNAME:NZDT
DTSTART:20190928T140000
END:DAYLIGHT
END:VTIMEZONE
BEGIN:VEVENT
DTSTART;TZID=Pacific/Auckland:20191013T170000
DTEND;TZID=Pacific/Auckland:20191013T193000
DTSTAMP:20191221T004821
CREATED:20190810T005717Z
LAST-MODIFIED:20191009T030840Z
UID:1821-1570986000-1570995000@www.mjc.org.nz
SUMMARY:October Club Day Concert: Swinganui and Carol Dee Trio
DESCRIPTION:Whanganui’s Swinganui is an amazing quartet\, featurring the multi-talented Errol Christiansen on flute\, with an amazing guitarist\, Sam McLea\, and backed by a superb rhythm section double bass player\, Roger Brasell\, and Michael Franklin – Browne on drums. \n \nWe have gone out to the wider Manawatu for our second course with The Carol Dee Trio hailing from Taikorea and Pohangina. This highly accomplished group also has well established roots\, with Carol (vocals) and Mike Dee (guitar /vocals) and Jonathan Couper-Smartt. Jonathon plays fretless bass and flutes in a wide varieties of genres. Carol is a seasoned performer on stage\, and Mike has a passion for guitars\, playing with several Jazz groups around Wellington/Kapiti\, and currently with A53 Jazz Duo. \n \n
URL:http://www.mjc.org.nz/index.php/event/september-club-day-concert/
LOCATION:Willowpark Tavern\, 820 Tremaine Ave\, Palmerston North\, 4414\, New Zealand
CATEGORIES:Club Day Concert
END:VEVENT
END:VCALENDAR