BEGIN:VCALENDAR
VERSION:2.0
PRODID:-//Manawatu Jazz Club - ECPv4.5.10//NONSGML v1.0//EN
CALSCALE:GREGORIAN
METHOD:PUBLISH
X-WR-CALNAME:Manawatu Jazz Club
X-ORIGINAL-URL:http://www.mjc.org.nz
X-WR-CALDESC:Events for Manawatu Jazz Club
BEGIN:VEVENT
DTSTART;TZID=Pacific/Auckland:20171126T190000
DTEND;TZID=Pacific/Auckland:20171126T210000
DTSTAMP:20180122T145026
CREATED:20171120T031751Z
LAST-MODIFIED:20171120T031751Z
UID:1317-1511722800-1511730000@www.mjc.org.nz
SUMMARY:Swamp City Big Band
DESCRIPTION:Tickets $10 @ Begg’s Music Store\, Albert Street or cash only at door. \n
URL:http://www.mjc.org.nz/index.php/event/swamp-city-big-band/
LOCATION:263 featherston street\, palmerston north\, New Zealand
END:VEVENT
END:VCALENDAR