BEGIN:VCALENDAR
VERSION:2.0
PRODID:-//Manawatu Jazz Club - ECPv4.5.10//NONSGML v1.0//EN
CALSCALE:GREGORIAN
METHOD:PUBLISH
X-WR-CALNAME:Manawatu Jazz Club
X-ORIGINAL-URL:http://www.mjc.org.nz
X-WR-CALDESC:Events for Manawatu Jazz Club
BEGIN:VEVENT
DTSTART;TZID=Pacific/Auckland:20170603T093000
DTEND;TZID=Pacific/Auckland:20170603T153000
DTSTAMP:20180122T145044
CREATED:20170519T204909Z
LAST-MODIFIED:20170519T205004Z
UID:1208-1496482200-1496503800@www.mjc.org.nz
SUMMARY:The High School and Youth Band Competition
DESCRIPTION:One of the big events for school Jazz groups throughout New Zealand.\nSaturday 3 June \nFREE \n
URL:http://www.mjc.org.nz/index.php/event/the-high-school-and-youth-band-competition/
LOCATION:Broadway\, Palmerston North
CATEGORIES:Educational Workshops,Jazz Festival
END:VEVENT
END:VCALENDAR